BEGIN:VCALENDAR
VERSION:2.0
PRODID:-//DIGITAL FACTORY//EVENTS MAKER V1.6.14//EN
CALSCALE:GREGORIAN
BEGIN:VEVENT
DTEND:20260424
UID:69eb7f09e1954
DTSTAMP:20260424T143241Z
CATEGORIES:Eventos\,Golf\,Torneos
LOCATION:Zuasti calle san andres s/n, iza, navarra, 31892, ES
DESCRIPTION:Horario 1ª Prueba Liga Infantil 4 Hoyos  Horario 1ª Prueba Liga Infantil 9 hoyos  🏌️‍♀️ 1ª Prueba Liga Infantil 2026 en Zuasti  El próximo 25 de abril de 2026\, el Club de Campo Señorío de Zuasti será el escenario de la 1ª Prueba de la Liga Infantil 2026\, una jornada especialmente diseñada para fomentar el golf entre los más jóvenes en un entorno seguro\, divertido y formativo.  Este evento marca el inicio de la liga infantil\, ofreciendo a niños y niñas la oportunidad de iniciarse o seguir desarrollando sus habilidades en competición\, siempre promoviendo valores como el compañerismo\, el respeto y el juego limpio.    📅 Fecha:     	25 de abril de 2026    ⛳ Formato de juego     	Modalidad: Stableford Individual   	Carácter: Abierto    El sistema Stableford permite a los jugadores disfrutar del recorrido de una forma dinámica y adaptada a su nivel\, favoreciendo el aprendizaje y la confianza en el campo.    👧🧒 Categorías y recorridos     	Categoría Infantil     	Recorrido de 9 hoyos   	Recorrido de 4 hoyos        Los diferentes recorridos están pensados para adaptarse a la edad y experiencia de los participantes\, facilitando una experiencia positiva para todos los niveles.    🌿 Campo de juego  La competición se disputará en el Campo de Golf del Club de Campo Señorío de Zuasti\, un entorno natural privilegiado que ofrece las condiciones perfectas para la práctica del golf y el disfrute al aire libre.    🎉 Una jornada para disfrutar  Más allá de la competición\, esta prueba busca crear un ambiente cercano y motivador para los jóvenes golfistas\, donde puedan compartir la experiencia con otros jugadores\, familiares y acompañantes.          &nbsp\;
URL;VALUE=URI:https://zuasti.es/eventos/event/1a-prueba-liga-infantil-4-y-9-hoyos2026/
SUMMARY:1ª Prueba Liga Infantil 4 y 9 Hoyos 2026
DTSTART:20260424
END:VEVENT
END:VCALENDAR
