BEGIN:VCALENDAR
VERSION:2.0
PRODID:-//DIGITAL FACTORY//EVENTS MAKER V1.6.14//EN
CALSCALE:GREGORIAN
BEGIN:VEVENT
DTEND:20241025
UID:69e588e29dfe8
DTSTAMP:20260420T020106Z
CATEGORIES:Golf
DESCRIPTION:Fecha: 26/10/2024        Juego: Stableford Individual    Cáracter: Abierto    Categoría: Todas    Campo: Zuasti    &nbsp\;    Horario 7ª Prueba Liga de Proveedores              Cartel Liga proveedores 2024 actualizad    HOYO EN UNO premo buen golpe    &nbsp\;
URL;VALUE=URI:https://zuasti.es/eventos/event/7a-prueba-liga-proveedores-2024-2/
SUMMARY:7ª Prueba Liga Proveedores 2024 (SUSPENDIDO)
DTSTART:20241025
END:VEVENT
END:VCALENDAR
