BEGIN:VCALENDAR
VERSION:2.0
PRODID:-//DIGITAL FACTORY//EVENTS MAKER V1.6.14//EN
CALSCALE:GREGORIAN
BEGIN:VEVENT
DTEND:20240302
UID:69e537c09b73c
DTSTAMP:20260419T201456Z
DESCRIPTION:El “otoño” llama a la puerta de Zuasti y nos trae un nuevo Torneo de Pádel\, con premios en material deportivo y sorteos\, gracias a la colaboración del Ayuntamiento de Iza y a la marca Munich.    &nbsp\;    Fechas: 25/10/2024 al 23/11/2024    Categorías: Femenino\, Masculino y Mixto    Requisito: 23 de noviembre es de OBLIGATORIO cumplimiento (100% disponibilidad)    Inscripción: 15€ Socios\, Abonados\, Empadronados y Alumnos de escuelas. 20 € No Socios     	 Inscripciones en recepción por parejas hasta el 22 de octubre (Min. 4 parejas - Max. 16 parejas)          Premios    Welcome pack    &nbsp\;    ¡NO TE LO PUEDES PERDER!    INSCRIPCIÓN PÁDEL    &nbsp\;        &nbsp\;
URL;VALUE=URI:https://zuasti.es/eventos/event/curso-de-cocina-padres-e-hijos/
SUMMARY:CURSO DE COCINA (Padres e hijos)
DTSTART:20240302
END:VEVENT
END:VCALENDAR
