BEGIN:VCALENDAR
VERSION:2.0
PRODID:-//DIGITAL FACTORY//EVENTS MAKER V1.6.14//EN
CALSCALE:GREGORIAN
BEGIN:VEVENT
DTEND:20240219
UID:69e5131955605
DTSTAMP:20260419T173833Z
DESCRIPTION:&nbsp\;    Sesión dedicada a las verduras con tres recetas excelentes:     	Cardo en salsa de almendras   	Pencas de acelgas rellenas de jamón y queso en salsa de hongos.   	Rissoto con alcachofas    CURSO DE COCINA Programa    &nbsp\;
URL;VALUE=URI:https://zuasti.es/eventos/event/curso-de-cocina/
SUMMARY:CURSO DE COCINA (VERDURAS)
DTSTART:20240219
END:VEVENT
END:VCALENDAR
