BEGIN:VCALENDAR
VERSION:2.0
PRODID:-//DIGITAL FACTORY//EVENTS MAKER V1.6.14//EN
CALSCALE:GREGORIAN
BEGIN:VEVENT
DTEND:20260508
UID:69ecc9a6501d6
DTSTAMP:20260425T140318Z
CATEGORIES:Eventos\,Palacio
LOCATION:Zuasti calle san andres s/n, iza, navarra, 31892, ES
DESCRIPTION:🌸 FIESTA DE LA PRIMAVERA 🌸      &nbsp\;    &nbsp\;    🌸 Plan especial 🌸    El buen tiempo ya está aquí… y merece celebrarse como toca ☀️  Te proponemos un día para salir de la rutina\, juntarte con amigos y disfrutar del ambiente del Club con una fiesta de primavera 💙    📅 9 de mayo · Salón Social  🍸 Cóctel desde las 14:30h  🎧 DJ Alex de 16:30h a 21:30h  Música\, buen ambiente y tardeo para alargar el día    💶 38€ por persona  (cóctel + bebida incluida durante el cóctel · copas de tardeo no incluidas)    ✨ Posibilidad de venir acompañado de amigos no socios    🚨 *Aforo reducido* — reserva cuanto antes para no quedarte sin sitio    👉 Cómo apuntarse  - Socios: a través de la App  - No socios: 948 30 29 00    🥂 Una cita pensada para disfrutar sin prisas y aprovechar la primavera en Zuasti.
URL;VALUE=URI:https://zuasti.es/eventos/event/fiesta-de-la-primavera-09-05-2026/
SUMMARY:FIESTA DE LA PRIMAVERA 09/05/26
DTSTART:20260508
END:VEVENT
END:VCALENDAR
