BEGIN:VCALENDAR
VERSION:2.0
PRODID:-//DIGITAL FACTORY//EVENTS MAKER V1.6.14//EN
CALSCALE:GREGORIAN
BEGIN:VEVENT
DTEND:20240309
UID:69e97cf382e6e
DTSTAMP:20260423T015915Z
CATEGORIES:Golf
LOCATION:Zuasti calle san andres s/n, iza, navarra, 31892, ES
DESCRIPTION:Horas de salida: a partir de las 11:00 horas\, primero la prueba de 5ª categoría y seguido la liga infantil.          Fecha: 10/03/2024    Juego: Stableford Individual    Cáracter: Abierto    Categorías:     	5ª categoría: 9 hoyos.   	Infantil:     	9 hoyos.   	4 hoyos.   	2 hoyos.        Campo: C.C. Señorío Zuasti    &nbsp\;    &nbsp\;          &nbsp\;
URL;VALUE=URI:https://zuasti.es/eventos/event/final-liga-de-invierno-5a-categoria-e-infantil-2024-2/
SUMMARY:Final Liga de Invierno 5ª Categoría e Infantil 2024
DTSTART:20240309
END:VEVENT
END:VCALENDAR
